BEGIN:VCALENDAR
VERSION:2.0
PRODID:-//Perimeter Solutions - ECPv6.15.15//NONSGML v1.0//EN
CALSCALE:GREGORIAN
METHOD:PUBLISH
X-ORIGINAL-URL:https://www.perimeter-solutions.com
X-WR-CALDESC:Events for Perimeter Solutions
REFRESH-INTERVAL;VALUE=DURATION:PT1H
X-Robots-Tag:noindex
X-PUBLISHED-TTL:PT1H
BEGIN:VTIMEZONE
TZID:America/New_York
BEGIN:DAYLIGHT
TZOFFSETFROM:-0500
TZOFFSETTO:-0400
TZNAME:EDT
DTSTART:20240310T070000
END:DAYLIGHT
BEGIN:STANDARD
TZOFFSETFROM:-0400
TZOFFSETTO:-0500
TZNAME:EST
DTSTART:20241103T060000
END:STANDARD
BEGIN:DAYLIGHT
TZOFFSETFROM:-0500
TZOFFSETTO:-0400
TZNAME:EDT
DTSTART:20250309T070000
END:DAYLIGHT
BEGIN:STANDARD
TZOFFSETFROM:-0400
TZOFFSETTO:-0500
TZNAME:EST
DTSTART:20251102T060000
END:STANDARD
BEGIN:DAYLIGHT
TZOFFSETFROM:-0500
TZOFFSETTO:-0400
TZNAME:EDT
DTSTART:20260308T070000
END:DAYLIGHT
BEGIN:STANDARD
TZOFFSETFROM:-0400
TZOFFSETTO:-0500
TZNAME:EST
DTSTART:20261101T060000
END:STANDARD
END:VTIMEZONE
BEGIN:VEVENT
DTSTART;VALUE=DATE:20250608
DTEND;VALUE=DATE:20250611
DTSTAMP:20260423T064509
CREATED:20250117T174908Z
LAST-MODIFIED:20250117T174908Z
UID:45329-1749340800-1749599999@www.perimeter-solutions.com
SUMMARY:AAAE Conference
DESCRIPTION:Perimeter Solutions will be exhibiting at Annual AAAE Conference. \nBooth: 350 \nFor more information\, visit: https://aaae.org/annual
URL:https://www.perimeter-solutions.com/event/aaae-conference/
LOCATION:Atlanta\, GA\, United States
ATTACH;FMTTYPE=image/png:https://www.perimeter-solutions.com/wp-content/uploads/2025/01/images.png
END:VEVENT
BEGIN:VEVENT
DTSTART;VALUE=DATE:20250609
DTEND;VALUE=DATE:20250612
DTSTAMP:20260423T064509
CREATED:20250117T175519Z
LAST-MODIFIED:20250117T175519Z
UID:45336-1749427200-1749686399@www.perimeter-solutions.com
SUMMARY:ILTA
DESCRIPTION:Perimeter Solutions will be exhibiting at ILTA Conference. \nBooth: 1824 \nFor more information\, visit: https://ilta2025.ilta.org/
URL:https://www.perimeter-solutions.com/event/ilta/
LOCATION:Houston\, TX\, United States
ATTACH;FMTTYPE=image/png:https://www.perimeter-solutions.com/wp-content/uploads/2025/01/ILTA25-Homepage638700517185786124.png
END:VEVENT
BEGIN:VEVENT
DTSTART;VALUE=DATE:20250616
DTEND;VALUE=DATE:20250619
DTSTAMP:20260423T064509
CREATED:20250117T175905Z
LAST-MODIFIED:20250117T191931Z
UID:45348-1750032000-1750291199@www.perimeter-solutions.com
SUMMARY:NFPA
DESCRIPTION:Perimeter Solutions will be exhibiting at the NFPA Conference & Expo. \nBooth: 927 \nFor more information\, visit: https://www.nfpa.org/events/conference/expo
URL:https://www.perimeter-solutions.com/event/nfpa/
LOCATION:Las Vegas\, NV\, United States
ATTACH;FMTTYPE=image/jpeg:https://www.perimeter-solutions.com/wp-content/uploads/2022/03/NFPA.jpg
END:VEVENT
END:VCALENDAR