BEGIN:VCALENDAR
VERSION:2.0
PRODID:-//Perimeter Solutions - ECPv6.15.15//NONSGML v1.0//EN
CALSCALE:GREGORIAN
METHOD:PUBLISH
X-WR-CALNAME:Perimeter Solutions
X-ORIGINAL-URL:https://www.perimeter-solutions.com
X-WR-CALDESC:Events for Perimeter Solutions
REFRESH-INTERVAL;VALUE=DURATION:PT1H
X-Robots-Tag:noindex
X-PUBLISHED-TTL:PT1H
BEGIN:VTIMEZONE
TZID:America/New_York
BEGIN:DAYLIGHT
TZOFFSETFROM:-0500
TZOFFSETTO:-0400
TZNAME:EDT
DTSTART:20240310T070000
END:DAYLIGHT
BEGIN:STANDARD
TZOFFSETFROM:-0400
TZOFFSETTO:-0500
TZNAME:EST
DTSTART:20241103T060000
END:STANDARD
BEGIN:DAYLIGHT
TZOFFSETFROM:-0500
TZOFFSETTO:-0400
TZNAME:EDT
DTSTART:20250309T070000
END:DAYLIGHT
BEGIN:STANDARD
TZOFFSETFROM:-0400
TZOFFSETTO:-0500
TZNAME:EST
DTSTART:20251102T060000
END:STANDARD
BEGIN:DAYLIGHT
TZOFFSETFROM:-0500
TZOFFSETTO:-0400
TZNAME:EDT
DTSTART:20260308T070000
END:DAYLIGHT
BEGIN:STANDARD
TZOFFSETFROM:-0400
TZOFFSETTO:-0500
TZNAME:EST
DTSTART:20261101T060000
END:STANDARD
END:VTIMEZONE
BEGIN:VEVENT
DTSTART;VALUE=DATE:20250209
DTEND;VALUE=DATE:20250213
DTSTAMP:20260422T192544
CREATED:20250117T165719Z
LAST-MODIFIED:20250117T165719Z
UID:45288-1739059200-1739404799@www.perimeter-solutions.com
SUMMARY:WFCA Ignite Symposium
DESCRIPTION:Perimeter Solutions be in attendance at the WFCA Ignite Symposium. \nFor more information\, visit: https://wfca.com/sponsors-and-exhibitors/
URL:https://www.perimeter-solutions.com/event/wfca-ignite-symposium/
LOCATION:Las Vegas\, NV\, United States
ATTACH;FMTTYPE=image/jpeg:https://www.perimeter-solutions.com/wp-content/uploads/2025/01/WFCA-Ignite.jpg
END:VEVENT
END:VCALENDAR