BEGIN:VCALENDAR
VERSION:2.0
PRODID:-//Perimeter Solutions - ECPv6.15.15//NONSGML v1.0//EN
CALSCALE:GREGORIAN
METHOD:PUBLISH
X-WR-CALNAME:Perimeter Solutions
X-ORIGINAL-URL:https://www.perimeter-solutions.com
X-WR-CALDESC:Events for Perimeter Solutions
REFRESH-INTERVAL;VALUE=DURATION:PT1H
X-Robots-Tag:noindex
X-PUBLISHED-TTL:PT1H
BEGIN:VTIMEZONE
TZID:America/New_York
BEGIN:DAYLIGHT
TZOFFSETFROM:-0500
TZOFFSETTO:-0400
TZNAME:EDT
DTSTART:20240310T070000
END:DAYLIGHT
BEGIN:STANDARD
TZOFFSETFROM:-0400
TZOFFSETTO:-0500
TZNAME:EST
DTSTART:20241103T060000
END:STANDARD
BEGIN:DAYLIGHT
TZOFFSETFROM:-0500
TZOFFSETTO:-0400
TZNAME:EDT
DTSTART:20250309T070000
END:DAYLIGHT
BEGIN:STANDARD
TZOFFSETFROM:-0400
TZOFFSETTO:-0500
TZNAME:EST
DTSTART:20251102T060000
END:STANDARD
BEGIN:DAYLIGHT
TZOFFSETFROM:-0500
TZOFFSETTO:-0400
TZNAME:EDT
DTSTART:20260308T070000
END:DAYLIGHT
BEGIN:STANDARD
TZOFFSETFROM:-0400
TZOFFSETTO:-0500
TZNAME:EST
DTSTART:20261101T060000
END:STANDARD
BEGIN:DAYLIGHT
TZOFFSETFROM:-0500
TZOFFSETTO:-0400
TZNAME:EDT
DTSTART:20270314T070000
END:DAYLIGHT
BEGIN:STANDARD
TZOFFSETFROM:-0400
TZOFFSETTO:-0500
TZNAME:EST
DTSTART:20271107T060000
END:STANDARD
END:VTIMEZONE
BEGIN:VEVENT
DTSTART;TZID=America/New_York:20250720T080000
DTEND;TZID=America/New_York:20250725T170000
DTSTAMP:20260423T065250
CREATED:20250714T190711Z
LAST-MODIFIED:20250715T213550Z
UID:47338-1752998400-1753462800@www.perimeter-solutions.com
SUMMARY:TEEX Municipal Fire School
DESCRIPTION:Perimeter Solutions will be exhibiting at the TEEX Municipal Fire School. Booth: 356 \nFor more information\, visit: https://teex.org/program/texas-annual-fire-training-school/ \n 
URL:https://www.perimeter-solutions.com/event/teex-municipal-fire-school/
LOCATION:TEEX Brayton Fire Training Field\, College Station\, TX\, United States
ATTACH;FMTTYPE=image/png:https://www.perimeter-solutions.com/wp-content/uploads/2025/07/Texas_AM_Engineering_Extension_Service_logo.svg_.png
END:VEVENT
BEGIN:VEVENT
DTSTART;TZID=America/New_York:20250726T080000
DTEND;TZID=America/New_York:20250728T170000
DTSTAMP:20260423T065250
CREATED:20250714T190927Z
LAST-MODIFIED:20250715T213511Z
UID:47366-1753516800-1753722000@www.perimeter-solutions.com
SUMMARY:AFAC25
DESCRIPTION:Perimeter Solutions be exhibiting at the AFAC Conference. Stand: 127 \nFor more information\, visit: https://www.afacconference.com.au/
URL:https://www.perimeter-solutions.com/event/afac25/
LOCATION:Perth Convention & Exhibition Centre\, Perth\, Australia
ATTACH;FMTTYPE=image/webp:https://www.perimeter-solutions.com/wp-content/uploads/2025/07/AFAC25-LOGO-horiz-1-.webp
END:VEVENT
BEGIN:VEVENT
DTSTART;TZID=America/New_York:20250728T080000
DTEND;TZID=America/New_York:20250801T170000
DTSTAMP:20260423T065250
CREATED:20250714T190815Z
LAST-MODIFIED:20250715T213435Z
UID:47364-1753689600-1754067600@www.perimeter-solutions.com
SUMMARY:Air National Guard Senior Fire Officer Summit (ANGFCA)
DESCRIPTION:Perimeter Solutions be exhibiting at the Air National Guard Senior Fire Officer Summit. Booth: 31 \nFor more information\, visit: https://www.firstdue.com/events/angfcaofficers25 \n 
URL:https://www.perimeter-solutions.com/event/air-national-guard-senior-fire-officer-summit-angfca/
LOCATION:Grand Sierra Resort & Casino Business Center\, Reno\, NV\, United States
ATTACH;FMTTYPE=image/png:https://www.perimeter-solutions.com/wp-content/uploads/2025/07/US_Air_Force_Logo_Solid_Colour.svg_.png
END:VEVENT
BEGIN:VEVENT
DTSTART;TZID=America/New_York:20250922T080000
DTEND;TZID=America/New_York:20250925T170000
DTSTAMP:20260423T065250
CREATED:20250714T191058Z
LAST-MODIFIED:20250715T213316Z
UID:47368-1758528000-1758819600@www.perimeter-solutions.com
SUMMARY:ARFF Annual International Education Symposium
DESCRIPTION:Perimeter Solutions be exhibiting at the ARFF Annual International Education Symposium. \nFor more information\, visit: https://www.arffwg.org/2025-annual-intl-educational-symposium/
URL:https://www.perimeter-solutions.com/event/arff-annual-international-education-symposium/
LOCATION:Mohegan Sun\, Uncasville\, CT\, United States
ATTACH;FMTTYPE=image/png:https://www.perimeter-solutions.com/wp-content/uploads/2025/07/arff.png
END:VEVENT
BEGIN:VEVENT
DTSTART;TZID=America/New_York:20251008T080000
DTEND;TZID=America/New_York:20251012T170000
DTSTAMP:20260423T065250
CREATED:20250714T191748Z
LAST-MODIFIED:20250917T132433Z
UID:47371-1759910400-1760288400@www.perimeter-solutions.com
SUMMARY:Annual NM Fire and EMS Expo
DESCRIPTION:Perimeter Solutions will be exhibiting and offering a Know Your Foam training session at the Annual NM Fire and EMS Expo. For more information and to register\, visit: https://nmemta.org/fire-and-ems-expo/ \n 
URL:https://www.perimeter-solutions.com/event/annual-nm-fire-and-ems-expo/
LOCATION:NM Firefighters Training Academy\, Socorro\, NM\, United States
ATTACH;FMTTYPE=image/png:https://www.perimeter-solutions.com/wp-content/uploads/2025/07/NM-fire-and-ems.png
END:VEVENT
BEGIN:VEVENT
DTSTART;TZID=America/New_York:20251015T080000
DTEND;TZID=America/New_York:20251018T170000
DTSTAMP:20260423T065250
CREATED:20250714T191905Z
LAST-MODIFIED:20250715T213217Z
UID:47373-1760515200-1760806800@www.perimeter-solutions.com
SUMMARY:AFSA44
DESCRIPTION:Perimeter Solutions be exhibiting at AFSA44. \nFor more information\, visit: https://www.firesprinkler.org/afsa44-coming-2025/
URL:https://www.perimeter-solutions.com/event/afsa44/
LOCATION:Gaylord National Resort\, Washington\, DC\, DC\, United States
ATTACH;FMTTYPE=image/png:https://www.perimeter-solutions.com/wp-content/uploads/2025/07/afsa.png
END:VEVENT
BEGIN:VEVENT
DTSTART;TZID=America/New_York:20251020T080000
DTEND;TZID=America/New_York:20251023T170000
DTSTAMP:20260423T065250
CREATED:20250714T192025Z
LAST-MODIFIED:20250715T213149Z
UID:47375-1760947200-1761238800@www.perimeter-solutions.com
SUMMARY:17th International Wildland Fire Safety Summit
DESCRIPTION:Perimeter Solutions be exhibiting at the 17th International Wildfire Safety Summit. \nFor more information\, visit: https://wildfiresummit.org/ \n 
URL:https://www.perimeter-solutions.com/event/17th-international-wildland-fire-safety-summit/
LOCATION:The Westin Calgary Downtown\, Calgary\, Alberta\, Canada
ATTACH;FMTTYPE=image/png:https://www.perimeter-solutions.com/wp-content/uploads/2025/07/SSHD-logo-768x308-1.png
END:VEVENT
BEGIN:VEVENT
DTSTART;TZID=America/New_York:20251021T080000
DTEND;TZID=America/New_York:20251023T170000
DTSTAMP:20260423T065250
CREATED:20250714T192142Z
LAST-MODIFIED:20250715T205156Z
UID:47377-1761033600-1761238800@www.perimeter-solutions.com
SUMMARY:SFPE Annual Conference & Expo
DESCRIPTION:Perimeter Solutions be exhibiting at SFPE Annual Conference & Expo. \nFor more information\, visit: https://www.sfpe.org/annual25/home
URL:https://www.perimeter-solutions.com/event/sfpe-annual-conference-expo-2/
LOCATION:The Westin Bayshore Vancouver\, Vancouver\, BC\, Canada
ATTACH;FMTTYPE=image/png:https://www.perimeter-solutions.com/wp-content/uploads/2025/07/SFPE_Logo-e1752611097787.png
END:VEVENT
BEGIN:VEVENT
DTSTART;VALUE=DATE:20260201
DTEND;VALUE=DATE:20260205
DTSTAMP:20260423T065250
CREATED:20260113T181248Z
LAST-MODIFIED:20260113T200421Z
UID:48243-1769904000-1770249599@www.perimeter-solutions.com
SUMMARY:Southwest Chapter of the American Association of Airport Executives
DESCRIPTION:Perimeter Solutions / SOLBERG will be attending the SWaaae conference. \n \nFor more information\, visit: https://swaaae.org/2026MRY/ \nDates: February 1 – 4\, 2026 \nLocation: Monterey\, CA
URL:https://www.perimeter-solutions.com/event/southwest-chapter-of-the-american-association-of-airport-executives/
LOCATION:Monterey\, CA\, Monterey\, CA\, United States
END:VEVENT
BEGIN:VEVENT
DTSTART;VALUE=DATE:20260212
DTEND;VALUE=DATE:20260217
DTSTAMP:20260423T065250
CREATED:20260113T181836Z
LAST-MODIFIED:20260113T200946Z
UID:48247-1770854400-1771286399@www.perimeter-solutions.com
SUMMARY:FSSA
DESCRIPTION:Perimeter Solutions / SOLBERG will be exhibiting at the FSSA conference. \n \nFor more information\, visit: https://www.fssa.net/2026-annual-forum \n  \nDates: February 12-16\, 2026 \nLocation: Ft. Lauderdale\, FL
URL:https://www.perimeter-solutions.com/event/fssa/
LOCATION:Ft. Lauderdale\, Fl\, Fort Lauderdale\, FL\, United States
END:VEVENT
BEGIN:VEVENT
DTSTART;VALUE=DATE:20260217
DTEND;VALUE=DATE:20260221
DTSTAMP:20260423T065250
CREATED:20260113T182104Z
LAST-MODIFIED:20260113T182418Z
UID:48254-1771286400-1771631999@www.perimeter-solutions.com
SUMMARY:Southwest - Region 3 IMT Meeting
DESCRIPTION:Perimeter Solutions be attending the Southwest – Region 3 IMT Meeting. \n \nDates: February 17-20\, 2026 \nLocation: Mesa\, AZ
URL:https://www.perimeter-solutions.com/event/southwest-region-3-imt-meeting/
LOCATION:Mesa\, AZ\, Mesa\, AZ\, United States
END:VEVENT
BEGIN:VEVENT
DTSTART;VALUE=DATE:20260309
DTEND;VALUE=DATE:20260313
DTSTAMP:20260423T065250
CREATED:20260113T182710Z
LAST-MODIFIED:20260113T182710Z
UID:48258-1773014400-1773359999@www.perimeter-solutions.com
SUMMARY:2026 ARFF Leadership Symposium
DESCRIPTION:Perimeter Solutions / SOLBERG will be exhibiting at the 2026 ARFF Leadership Symposium. \n \nFor more information\, visit: https://members.arffwg.org/calendar/Details/2026-arff-leadership-symposium-1403873?sourceTypeId=Website \n  \nDate: March 9-12\, 2026 \nLocation: Addison\, TX \n  \n 
URL:https://www.perimeter-solutions.com/event/2026-arff-leadership-symposium/
LOCATION:Addison\, TX\, Addison\, TX\, United States
END:VEVENT
BEGIN:VEVENT
DTSTART;VALUE=DATE:20260324
DTEND;VALUE=DATE:20260327
DTSTAMP:20260423T065250
CREATED:20260113T190122Z
LAST-MODIFIED:20260113T190434Z
UID:48262-1774310400-1774569599@www.perimeter-solutions.com
SUMMARY:WUI
DESCRIPTION:Perimeter Solutions will be exhibiting at the WUI conference. \n \nFor more information\, visit: https://wui2026.eventscribe.net/ \nDates: March 24-26\, 2026 \nBooth: 640 \nLocation: Reno\, NV
URL:https://www.perimeter-solutions.com/event/wui/
LOCATION:Reno\, NV\, Reno\, NV\, United States
END:VEVENT
BEGIN:VEVENT
DTSTART;VALUE=DATE:20260324
DTEND;VALUE=DATE:20260327
DTSTAMP:20260423T065250
CREATED:20260113T190859Z
LAST-MODIFIED:20260113T190859Z
UID:48267-1774310400-1774569599@www.perimeter-solutions.com
SUMMARY:AFF EU
DESCRIPTION:Perimeter Solutions will be exhibiting at the Aerial Fire Fighting Global Conference and Exhibition. \n \nFor more information\, visit: https://tangentlink-events.com/affg2026 \n  \nDates: March 24-26\, 2026 \nStand: 116 \nLocation: Rome\, Italy
URL:https://www.perimeter-solutions.com/event/aff-eu/
LOCATION:Rome\, Italy\, Rome\, Italy
END:VEVENT
BEGIN:VEVENT
DTSTART;VALUE=DATE:20260408
DTEND;VALUE=DATE:20260413
DTSTAMP:20260423T065250
CREATED:20260113T191137Z
LAST-MODIFIED:20260113T191202Z
UID:48271-1775606400-1776038399@www.perimeter-solutions.com
SUMMARY:Wildfire Resiliency and Training Summit
DESCRIPTION:Perimeter Solutions be exhibiting at the Wildfire Resiliency and Training Summit. \nFor more information\, visit: https://pgevents.eventsair.com/wildfire-resiliency-and-training-summit-2026 \n  \nDates: April 8-12\, 2026 \nLocation: Victoria\, B.C.
URL:https://www.perimeter-solutions.com/event/wildfire-resiliency-and-training-summit-2/
LOCATION:Victoria\, B.C\, Victoria\, Canada
END:VEVENT
BEGIN:VEVENT
DTSTART;VALUE=DATE:20260420
DTEND;VALUE=DATE:20260426
DTSTAMP:20260423T065250
CREATED:20260113T191349Z
LAST-MODIFIED:20260113T191349Z
UID:48274-1776643200-1777161599@www.perimeter-solutions.com
SUMMARY:FDIC
DESCRIPTION:Perimeter Solutions be exhibiting at FDIC. \n \nFor more information\, visit: https://www.fdic.com/ \n  \nDates: April 20-25\, 2026 \nBooth: 2781 \nLocation: Indianapolis\, IN
URL:https://www.perimeter-solutions.com/event/fdic-2/
LOCATION:Indianapolis\, IN\, United States
END:VEVENT
BEGIN:VEVENT
DTSTART;VALUE=DATE:20260601
DTEND;VALUE=DATE:20260607
DTSTAMP:20260423T065250
CREATED:20260113T191744Z
LAST-MODIFIED:20260113T191744Z
UID:48276-1780272000-1780790399@www.perimeter-solutions.com
SUMMARY:INTERSCHUTZ
DESCRIPTION:Perimeter Solutions be exhibiting at INTERSCHUTZ. \n \nFor more information\, visit: https://www.interschutz.de/en/about-us/about-the-show/ \n  \nDates: June 1-6\, 2026\nStand number: Hall 13\, Stand D07 \nLocation: Hannover\, Germany
URL:https://www.perimeter-solutions.com/event/interschutz/
LOCATION:Hannover\, Germany\, Hannover\, Germany
END:VEVENT
BEGIN:VEVENT
DTSTART;VALUE=DATE:20260622
DTEND;VALUE=DATE:20260625
DTSTAMP:20260423T065250
CREATED:20260113T192013Z
LAST-MODIFIED:20260113T192013Z
UID:48282-1782086400-1782345599@www.perimeter-solutions.com
SUMMARY:NFPA
DESCRIPTION:Perimeter Solutions be exhibiting at NFPA. \n \nFor more information\, visit: https://www.nfpa.org/events/conference/expo \n  \nDates: June 22-24\, 2026 \nLocation: Las Vegas\, NV
URL:https://www.perimeter-solutions.com/event/nfpa-2/
LOCATION:Las Vegas\, NV\, United States
END:VEVENT
BEGIN:VEVENT
DTSTART;VALUE=DATE:20260713
DTEND;VALUE=DATE:20260717
DTSTAMP:20260423T065250
CREATED:20260113T192439Z
LAST-MODIFIED:20260113T192439Z
UID:48284-1783900800-1784246399@www.perimeter-solutions.com
SUMMARY:2026 AFCA/AFDA Fire & EMS Leadership Conference & Expo
DESCRIPTION:Perimeter Solutions be attending the AFCA/AFDA Fire & EMS Leadership Conference & Expo. \n \nFor more information\, https://www.azfirechiefs.org/general/custom.asp?page=ConfInfo \n  \nDates: July 13-16\, 2026 \nLocation: Glendale\, AZ
URL:https://www.perimeter-solutions.com/event/2026-afca-afda-fire-ems-leadership-conference-expo/
LOCATION:Glendale\, AZ\, Glendale\, AZ\, United States
END:VEVENT
BEGIN:VEVENT
DTSTART;VALUE=DATE:20260719
DTEND;VALUE=DATE:20260720
DTSTAMP:20260423T065250
CREATED:20260113T192655Z
LAST-MODIFIED:20260113T192655Z
UID:48287-1784419200-1784505599@www.perimeter-solutions.com
SUMMARY:TEEX Municipal Fire School
DESCRIPTION:Perimeter Solutions be exhibiting at the TEEX Municipal Fire School \n \nFor more information\, visit: https://teex.org/event/vendor-shows/ \n  \nDates: July 19\, 2026 \nBooth: 356 \nLocation: College Station\, TX
URL:https://www.perimeter-solutions.com/event/teex-municipal-fire-school-2/
LOCATION:College Station\, Texas\, College Station\, TX\, United States
END:VEVENT
END:VCALENDAR