BEGIN:VCALENDAR
VERSION:2.0
PRODID:-//Perimeter Solutions - ECPv6.15.15//NONSGML v1.0//EN
CALSCALE:GREGORIAN
METHOD:PUBLISH
X-WR-CALNAME:Perimeter Solutions
X-ORIGINAL-URL:https://www.perimeter-solutions.com/es/
X-WR-CALDESC:Eventos para Perimeter Solutions
REFRESH-INTERVAL;VALUE=DURATION:PT1H
X-Robots-Tag:noindex
X-PUBLISHED-TTL:PT1H
BEGIN:VTIMEZONE
TZID:America/New_York
BEGIN:DAYLIGHT
TZOFFSETFROM:-0500
TZOFFSETTO:-0400
TZNAME:EDT
DTSTART:20220313T070000
END:DAYLIGHT
BEGIN:STANDARD
TZOFFSETFROM:-0400
TZOFFSETTO:-0500
TZNAME:EST
DTSTART:20221106T060000
END:STANDARD
BEGIN:DAYLIGHT
TZOFFSETFROM:-0500
TZOFFSETTO:-0400
TZNAME:EDT
DTSTART:20230312T070000
END:DAYLIGHT
BEGIN:STANDARD
TZOFFSETFROM:-0400
TZOFFSETTO:-0500
TZNAME:EST
DTSTART:20231105T060000
END:STANDARD
BEGIN:DAYLIGHT
TZOFFSETFROM:-0500
TZOFFSETTO:-0400
TZNAME:EDT
DTSTART:20240310T070000
END:DAYLIGHT
BEGIN:STANDARD
TZOFFSETFROM:-0400
TZOFFSETTO:-0500
TZNAME:EST
DTSTART:20241103T060000
END:STANDARD
END:VTIMEZONE
BEGIN:VEVENT
DTSTART;VALUE=DATE:20230906
DTEND;VALUE=DATE:20230910
DTSTAMP:20260423T234400
CREATED:20230125T173532Z
LAST-MODIFIED:20230125T173532Z
UID:34725-1693958400-1694303999@www.perimeter-solutions.com
SUMMARY:AFSA42
DESCRIPTION:Perimeter Solutions estará presente en AFSA42 \nFechas: del 5 al 9 de septiembre de 2023\nUbicación: Orlando\, Florida \nPara obtener más información\, visite: https://www.firesprinkler.org/afsa42
URL:https://www.perimeter-solutions.com/es/event/afsa42/
ATTACH;FMTTYPE=image/png:https://www.perimeter-solutions.com/wp-content/uploads/2023/01/american-fire-sprinkler-association-afsa-logo-vector.png
END:VEVENT
BEGIN:VEVENT
DTSTART;VALUE=DATE:20230918
DTEND;VALUE=DATE:20230922
DTSTAMP:20260423T234400
CREATED:20230125T173948Z
LAST-MODIFIED:20230125T173948Z
UID:34734-1694995200-1695340799@www.perimeter-solutions.com
SUMMARY:NASF Annual Meeting
DESCRIPTION:Perimeter Solutions estará presente en la reunión anual de NASF \nFechas: 18 al 21 de septiembre de 2023\nUbicación: Baton Rouge\, LA \nPara obtener más información\, visite: https://www.stateforesters.org/event/nasf-2023-annual-meeting/
URL:https://www.perimeter-solutions.com/es/event/nasf-annual-meeting/
ATTACH;FMTTYPE=image/jpeg:https://www.perimeter-solutions.com/wp-content/uploads/2023/01/fqYlYFyT_400x400-e1675054004630.jpeg
END:VEVENT
END:VCALENDAR