BEGIN:VCALENDAR
VERSION:2.0
PRODID:-//Perimeter Solutions - ECPv6.15.15//NONSGML v1.0//EN
CALSCALE:GREGORIAN
METHOD:PUBLISH
X-ORIGINAL-URL:https://www.perimeter-solutions.com/es/
X-WR-CALDESC:Eventos para Perimeter Solutions
REFRESH-INTERVAL;VALUE=DURATION:PT1H
X-Robots-Tag:noindex
X-PUBLISHED-TTL:PT1H
BEGIN:VTIMEZONE
TZID:America/New_York
BEGIN:DAYLIGHT
TZOFFSETFROM:-0500
TZOFFSETTO:-0400
TZNAME:EDT
DTSTART:20220313T070000
END:DAYLIGHT
BEGIN:STANDARD
TZOFFSETFROM:-0400
TZOFFSETTO:-0500
TZNAME:EST
DTSTART:20221106T060000
END:STANDARD
BEGIN:DAYLIGHT
TZOFFSETFROM:-0500
TZOFFSETTO:-0400
TZNAME:EDT
DTSTART:20230312T070000
END:DAYLIGHT
BEGIN:STANDARD
TZOFFSETFROM:-0400
TZOFFSETTO:-0500
TZNAME:EST
DTSTART:20231105T060000
END:STANDARD
BEGIN:DAYLIGHT
TZOFFSETFROM:-0500
TZOFFSETTO:-0400
TZNAME:EDT
DTSTART:20240310T070000
END:DAYLIGHT
BEGIN:STANDARD
TZOFFSETFROM:-0400
TZOFFSETTO:-0500
TZNAME:EST
DTSTART:20241103T060000
END:STANDARD
END:VTIMEZONE
BEGIN:VEVENT
DTSTART;VALUE=DATE:20230522
DTEND;VALUE=DATE:20230525
DTSTAMP:20260424T054836
CREATED:20230125T172911Z
LAST-MODIFIED:20230125T172911Z
UID:34727-1684713600-1684972799@www.perimeter-solutions.com
SUMMARY:2023 ILTA Conference
DESCRIPTION:Perimeter Solutions estará presente en la Conferencia ILTA \nFechas: 22-24 de mayo de 2023\nUbicación: Houston\, TX \nVisítenos en el stand 307 \nPara obtener más información\, visite: https://ilta2023.ilta.org/
URL:https://www.perimeter-solutions.com/es/event/2023-ilta-conference/
ATTACH;FMTTYPE=image/png:https://www.perimeter-solutions.com/wp-content/uploads/2021/08/ilta-logo.png
END:VEVENT
BEGIN:VEVENT
DTSTART;VALUE=DATE:20230619
DTEND;VALUE=DATE:20230622
DTSTAMP:20260424T054836
CREATED:20230125T173210Z
LAST-MODIFIED:20230125T173210Z
UID:34726-1687132800-1687391999@www.perimeter-solutions.com
SUMMARY:National Fire Protection Association Expo & Conference
DESCRIPTION:Exposición y Conferencia de la Asociación \nFechas: 19 al 21 de junio de 2023\nUbicación: Las Vegas\, Nevada \nVisítenos en el stand 237 \nPara obtener más información\, visite: https://www.nfpa.org/conference
URL:https://www.perimeter-solutions.com/es/event/national-fire-protection-association-expo-conference/
ATTACH;FMTTYPE=image/png:https://www.perimeter-solutions.com/wp-content/uploads/2022/01/NFPA.jpg
END:VEVENT
END:VCALENDAR