BEGIN:VCALENDAR
VERSION:2.0
PRODID:-//Perimeter Solutions - ECPv6.15.15//NONSGML v1.0//EN
CALSCALE:GREGORIAN
METHOD:PUBLISH
X-ORIGINAL-URL:https://www.perimeter-solutions.com/es/
X-WR-CALDESC:Eventos para Perimeter Solutions
REFRESH-INTERVAL;VALUE=DURATION:PT1H
X-Robots-Tag:noindex
X-PUBLISHED-TTL:PT1H
BEGIN:VTIMEZONE
TZID:America/New_York
BEGIN:DAYLIGHT
TZOFFSETFROM:-0500
TZOFFSETTO:-0400
TZNAME:EDT
DTSTART:20220313T070000
END:DAYLIGHT
BEGIN:STANDARD
TZOFFSETFROM:-0400
TZOFFSETTO:-0500
TZNAME:EST
DTSTART:20221106T060000
END:STANDARD
BEGIN:DAYLIGHT
TZOFFSETFROM:-0500
TZOFFSETTO:-0400
TZNAME:EDT
DTSTART:20230312T070000
END:DAYLIGHT
BEGIN:STANDARD
TZOFFSETFROM:-0400
TZOFFSETTO:-0500
TZNAME:EST
DTSTART:20231105T060000
END:STANDARD
BEGIN:DAYLIGHT
TZOFFSETFROM:-0500
TZOFFSETTO:-0400
TZNAME:EDT
DTSTART:20240310T070000
END:DAYLIGHT
BEGIN:STANDARD
TZOFFSETFROM:-0400
TZOFFSETTO:-0500
TZNAME:EST
DTSTART:20241103T060000
END:STANDARD
END:VTIMEZONE
BEGIN:VEVENT
DTSTART;VALUE=DATE:20230403
DTEND;VALUE=DATE:20230405
DTSTAMP:20260424T085727
CREATED:20230125T170814Z
LAST-MODIFIED:20230125T170814Z
UID:34732-1680480000-1680652799@www.perimeter-solutions.com
SUMMARY:2023 Aerial Firefighting Pacific Northwest Wildfire Conference and Exhibition
DESCRIPTION:Perimeter Solutions participará en la Conferencia y Exposición de Incendios Forestales del Noroeste del Pacífico de Lucha contra Incendios Aéreos \nFechas: 3 y 4 de abril de 2023\nUbicación: Seattle\, WA \nPara obtener más información\, visite: https://tangent-link.idloom.events/affpnw
URL:https://www.perimeter-solutions.com/es/event/2023-aerial-firefighting-pacific-northwest-wildfire-conference-and-exhibition/
ATTACH;FMTTYPE=image/jpeg:https://www.perimeter-solutions.com/wp-content/uploads/2023/01/AFFNA-2022.jpeg
END:VEVENT
BEGIN:VEVENT
DTSTART;VALUE=DATE:20230425
DTEND;VALUE=DATE:20230501
DTSTAMP:20260424T085727
CREATED:20230125T171256Z
LAST-MODIFIED:20230125T171256Z
UID:34730-1682380800-1682899199@www.perimeter-solutions.com
SUMMARY:FDIC International 2023
DESCRIPTION:Perimeter Solutions estará presente en FDIC International \nFechas: 25-30 de abril de 2022\nUbicación: Indianápolis\, IN \nVisítenos en el stand 3268 \nPara obtener más información\, visite: https://www.fdic.com/
URL:https://www.perimeter-solutions.com/es/event/fdic-international-2023/
ATTACH;FMTTYPE=image/png:https://www.perimeter-solutions.com/wp-content/uploads/2022/01/FDIC.png
END:VEVENT
END:VCALENDAR